BEGIN:VCALENDAR
VERSION:2.0
PRODID:-//eventon.com NONSGML v1.0//EN
CALSCALE:GREGORIAN
METHOD:PUBLISH
BEGIN:VEVENT
UID:69e7567c65e5e
DTSTAMP:20260421T105036Z
DTSTART:20250516T103000Z
DTEND:20250516T133000Z
LOCATION:
SUMMARY:Pflanzenkreisel
DESCRIPTION:Das Mehrgenerationenhaus/Stadtteil- und Begegnungszentrum Lütt
 en Klein lädt alle zum Pflanzenkreisel ein. Wer hat bringt seine Topfpflan
 ze\,  Gartenpflanze oder Blumensamen\,  die er verschenken will vorbei. Auc
 h wer keine Pflanzen mitbringt\,  kann schauen\,  was ihm gefällt und eine
 r Pflanze ein neues Zuhause geben! Wann:Freitag\,  16.05.2025 von 12.30-15.
 30 Uhr Wo:Mehrgenerationenhaus / Stadtteil- und[..]\nhttps://familie-in-ros
 tock.de/events/pflanzenkreisel/
URL:https://familie-in-rostock.de/events/pflanzenkreisel/
END:VEVENT
END:VCALENDAR