BEGIN:VCALENDAR
VERSION:2.0
PRODID:-//eventon.com NONSGML v1.0//EN
CALSCALE:GREGORIAN
METHOD:PUBLISH
BEGIN:VEVENT
UID:69e75076aa176
DTSTAMP:20260421T102454Z
DTSTART:20250716T140000Z
DTEND:20250716T215000Z
LOCATION:
SUMMARY:Vorlesezeit: “Uhuwe liest vor”
DESCRIPTION:Vorgelesen wird die Geschichte “Uhuwe liest vor” von Christ
 elle Saquet für Kinder ab 3 Jahren. Vorlesepatin: Dagmar Drews Jeden Abend
  warten die Waldtiere sehnsüchtig auf den ersten Stern am Himmelszelt. Den
 n dann beginnt die Vorlesezeit und alle versammeln sich unter der großen E
 iche\,  in der Uhuwe\,  der weise Uhu\,  lebt.[..]\nhttps://familie-in-rost
 ock.de/events/vorlesezeit-uhuwe-liest-vor/
URL:https://familie-in-rostock.de/events/vorlesezeit-uhuwe-liest-vor/
END:VEVENT
END:VCALENDAR